{"text_format":"3","workbook":"xlsx","n_sheets":4,"sheets":["표지","개정이력","AGENT 일정","Sheet1"],"not_rendered":{"images":1,"external_links":2,"defined_names":41},"read":"whole","date_system":"1900"}

{"sheet":"표지","index":0,"n_rows":11,"n_cols":2,"rows_kept":11,"merged":[[2,1,2,10],[5,1,5,10],[8,0,8,11],[10,0,10,11]]}
[]
[]
[null,"ITN AGENT 개발 사업"]
[]
[]
[null,"WBS"]
[]
[]
[]
[]
["2024. 11. 04."]

{"sheet":"개정이력","index":1,"n_rows":5,"n_cols":4,"rows_kept":5,"merged":[[2,0,2,3]]}
["사업명",null,null,{"$f":"표지!B6","v":"WBS"}]
[]
["개정 이력"]
["버전","작성일","내용","작성자"]
[{"v":1,"d":"1.0"},"2024.11.04","최초작성","이호영"]

{"sheet":"AGENT 일정","index":2,"n_rows":129,"n_cols":138,"rows_kept":129,"merged":[[0,0,0,14],[2,0,2,5],[2,8,2,9],[3,0,5,5],[8,0,10,10],[8,11,8,13],[8,15,8,24],[8,25,8,35],[8,36,8,61],[8,62,8,88],[8,89,8,113],[8,114,8,137],[9,11,9,13],[10,11,10,13],[11,4,11,5],[13,17,52,17],[13,23,52,23],[13,53,52,53],[13,59,52,59],[13,93,128,93],[54,17,126,17],[54,23,126,23]]}
["AGENT 일정"]
[]
["기간",{"$nulls":7},"남은기간"]
["    - 기간 : 2021. 10. 15. ~ 2022. 01. 27. -> 2021. 10. 15. ~ 2022. 02. 28.\n    - 중간발표 : 2022. 01. 07.(금)\n    - 검수기간 : 2022. 01. 13 ~ 01. 17.\n    - 최종발표 : 2022. 02. 17.(목)",{"$nulls":7},"오늘 날짜",{"$f":"TODAY()","v":"2024-11-04"}]
[{"$nulls":8},"총 날짜",{"$f":"Sheet1!B6-Sheet1!A3","v":136}]
[{"$nulls":8},"실제날짜(토,일 포함)",{"$f":"Sheet1!B6-Sheet1!A6","v":-980}]
[{"$nulls":8},"평일 계산(토,일 제외)",{"$f":"NETWORKDAYS(Sheet1!A6,Sheet1!B6)","v":-701}]
[]
[{"$nulls":11},"월별",null,null,"D1","11월",{"$nulls":20},"11월",{"$nulls":25},"12월",{"$nulls":26},"01월",{"$nulls":24},"02월"]
[{"$nulls":11},"요일",null,null,"D2","목","금",null,"월","화","수","목","금",null,"월","월","화","수","목","금",null,"월","화","수","목","금","월","화","수","목","금",null,"월","화","수","목","금",null,"월","화","수","목","금",null,"월","화","수","목","금",null,"월","화","수","목","금",null,"월","화","수","목","금",null,"월","화","수","목","금",null,"월","화","수","목","금",null,"월","화","수","목","금","월","화","수","목","금",null,"월","화","수","목","금",null,"월","화","수","목","금",null,"월","화","수","목","금",null,"월","화","수","목","금",null,"월","화","수","목","금",null,"월","화","수","목","금",null,"월","화","수","목","금",null,"월"]
[{"$nulls":11},"일별",null,null,"D2","1900-01-19","1900-01-20",null,"1900-01-23","1900-01-24","1900-01-25","1900-01-26","1900-01-27",null,"1900-01-30",18,19,20,21,22,null,25,26,27,28,29,1,2,3,4,5,null,8,9,10,11,12,null,"1900-01-15","1900-01-16","1900-01-17","1900-01-18","1900-01-19",null,"1900-01-22","1900-01-23","1900-01-24","1900-01-25","1900-01-26",null,"1900-01-29","1900-01-30",1,2,3,null,6,7,8,9,10,null,13,14,15,16,17,null,20,21,22,23,24,null,27,28,29,30,31,3,4,5,6,7,null,10,11,12,13,14,null,17,18,19,20,21,null,24,25,26,27,28,null,31,1,2,3,4,null,7,8,9,10,11,null,14,15,16,17,18,null,21,22,23,24,25,null,28]
["NO","단계","요구사항 ID","Activity","Task",null,"Leaf Task","Task 속성","산출물","자원","진행상태","계획시작일","계획종료일","기간(일)","계획진척률"]
[1,"1000. 사업관리","받을거",{"$nulls":7},{"$f":"IF(AND(O13>0%,O13<100%),\"진행 중\",IF(O13=0%,\"작업 대기\",\"작업 완료\"))","v":{"$error":"#REF!"}},null,null,{"$f":"SUM(N14:N53)","v":194},{"$f":"AVERAGE(O15,O18,O20,O21,#REF!)","v":{"$error":"#REF!"}}]
[2,null,null,"착수계",{"$nulls":89},"중간보고"]
[3,{"$nulls":3},"착수계 작성",null,"○","작업","사업수행계획서","이호영","작업 완료","2021-10-18","2021-10-26",{"$f":"IF(OR(ISBLANK($L15), ISBLANK($M15)),\"\",NETWORKDAYS($L15,$M15))","v":7},{"v":1,"d":"100%"}]
[4,null,null,"AI매칭 데이터 검증"]
[5,{"$nulls":3},"전문가 교수 매칭 데이터 검토",null,"○","작업",null,"한밭대",{"$f":"IF(AND(O17>0%,O17<100%),\"진행 중\",IF(O17=0%,\"작업 대기\",\"작업 완료\"))","v":"작업 대기"},"2021-12-20","2021-12-24",{"$f":"IF(OR(ISBLANK($L17), ISBLANK($M17)),\"\",NETWORKDAYS($L17,$M17))","v":5},{"v":0,"d":"0%"}]
[6,{"$nulls":3},"전문가 교수 클랜징 작업",null,"○","작업",null,"한밭대",{"$f":"IF(AND(O18>0%,O18<100%),\"진행 중\",IF(O18=0%,\"작업 대기\",\"작업 완료\"))","v":"작업 대기"},"2022-02-21","2022-02-25",{"$f":"IF(OR(ISBLANK($L18), ISBLANK($M18)),\"\",NETWORKDAYS($L18,$M18))","v":5},{"v":0,"d":"0%"}]
[7,{"$nulls":3},"외부 자문위원"]
[8,{"$nulls":4},"전달 문서 준비 - 1차 매칭 데이터 기준서","○","작업",null,"여인영",{"$f":"IF(AND(O20>0%,O20<100%),\"진행 중\",IF(O20=0%,\"작업 대기\",\"작업 완료\"))","v":"작업 대기"},"2022-01-10","2022-01-14",{"$f":"IF(OR(ISBLANK($L20), ISBLANK($M20)),\"\",NETWORKDAYS($L20,$M20))","v":5},{"v":0,"d":"0%"}]
[9,{"$nulls":4},"외부 자문위원 검토","○","작업","AI매칭 자동화 매뉴얼","여인영","작업 대기","2022-01-17","2022-01-21",5,{"v":0,"d":"0%"}]
[11]
[12,"2000. 요구정의 / 분석",{"$nulls":8},{"$f":"IF(AND(O23>0%,O23<100%),\"진행 중\",IF(O23=0%,\"개발 대기\",\"개발 완료\"))","v":"진행 중"},null,null,{"$f":"SUM(N54:N54)","v":0},{"$f":"AVERAGE(O25,O28,O30,O32)","v":{"v":0.5,"d":"50%"}}]
[13,null,null,"요구사항 분석"]
[14,{"$nulls":3},"요구사항 정의",null,"○","작업","요구사항 정의서","이호영",{"$f":"IF(AND(O25>0%,O25<100%),\"진행 중\",IF(O25=0%,\"작업 대기\",\"작업 완료\"))","v":"작업 완료"},"2021-10-18","2021-10-22",{"$f":"IF(OR(ISBLANK($L25), ISBLANK($M25)),\"\",NETWORKDAYS($L25,$M25))","v":5},{"v":1,"d":"100%"}]
[15,null,null,"AI매칭"]
[16,{"$nulls":3},"형태소분석"]
[17,{"$nulls":4},"형태소분석기 선정","○","작업",null,"여인영",{"$f":"IF(AND(O28>0%,O28<100%),\"진행 중\",IF(O28=0%,\"작업 대기\",\"작업 완료\"))","v":"작업 대기"},"2021-12-20","2021-12-24",5,{"v":0,"d":"0%"}]
[18,{"$nulls":3},"학습 모델"]
[19,{"$nulls":4},"학습 모델 선정","○","작업",null,"여인영",{"$f":"IF(AND(O30>0%,O30<100%),\"진행 중\",IF(O30=0%,\"작업 대기\",\"작업 완료\"))","v":"작업 대기"},"2021-12-27","2021-12-31",5,{"v":0,"d":"0%"}]
[20,{"$nulls":3},"데이터 매칭"]
[21,{"$nulls":4},"교과 직무 매칭 (22개 학과)","○","작업","각 학과 매칭데이터 (XLSX)","개발팀",{"$f":"IF(AND(O32>0%,O32<100%),\"진행 중\",IF(O32=0%,\"작업 대기\",\"작업 완료\"))","v":"작업 완료"},"2021-11-01","2021-12-17",35,{"v":1,"d":"100%"}]
[22]
[23]
[24,"3000. 설계",{"$nulls":12},{"$f":"AVERAGE(O38,O39,O41,O42,O43,O46,O47,O50,O52)","v":{"v":0.7777777777777778,"d":"78%"}}]
[25,null,null,"화면 설계서"]
[26,{"$nulls":3},"AI매칭 자동화"]
[27,{"$nulls":4},"AI 매칭 자동화 화면","○","작업","화면 설계서","여인영",{"$f":"IF(AND(O38>0%,O38<100%),\"진행 중\",IF(O38=0%,\"작업 대기\",\"작업 완료\"))","v":"작업 완료"},"2021-10-20","2021-10-22",{"$f":"IF(OR(ISBLANK($L38), ISBLANK($M38)),\"\",NETWORKDAYS($L38,$M38))","v":3},{"v":1,"d":"100%"}]
[28,{"$nulls":4},"AI 매칭 자동화 실행 팝업 화면","○","작업","화면 설계서","여인영",{"$f":"IF(AND(O39>0%,O39<100%),\"진행 중\",IF(O39=0%,\"작업 대기\",\"작업 완료\"))","v":"작업 완료"},"2021-10-20","2021-10-22",{"$f":"IF(OR(ISBLANK($L39), ISBLANK($M39)),\"\",NETWORKDAYS($L39,$M39))","v":3},{"v":1,"d":"100%"}]
[29,{"$nulls":3},"마이 페이지"]
[30,{"$nulls":4},"마이 페이지 화면","○","작업","화면 설계서","김지수",{"$f":"IF(AND(O41>0%,O41<100%),\"진행 중\",IF(O41=0%,\"작업 대기\",\"작업 완료\"))","v":"작업 완료"},"2021-10-20","2021-11-19",{"$f":"IF(OR(ISBLANK($L41), ISBLANK($M41)),\"\",NETWORKDAYS($L41,$M41))","v":23},{"v":1,"d":"100%"}]
[31,{"$nulls":4},"역량진단 리포트 화면","○","작업","화면 설계서","김지수",{"$f":"IF(AND(O42>0%,O42<100%),\"진행 중\",IF(O42=0%,\"작업 대기\",\"작업 완료\"))","v":"작업 완료"},"2021-10-20","2021-11-19",{"$f":"IF(OR(ISBLANK($L42), ISBLANK($M42)),\"\",NETWORKDAYS($L42,$M42))","v":23},{"v":1,"d":"100%"}]
[32,{"$nulls":4},"전공 교과목 설계 화면","○","작업","화면 설계서","김지수",{"$f":"IF(AND(O43>0%,O43<100%),\"진행 중\",IF(O43=0%,\"작업 대기\",\"작업 완료\"))","v":"작업 완료"},"2021-10-20","2021-11-19",{"$f":"IF(OR(ISBLANK($L43), ISBLANK($M43)),\"\",NETWORKDAYS($L43,$M43))","v":23},{"v":1,"d":"100%"}]
[33,{"$nulls":3},"대시보드",null,"○","작업","화면 설계서","김지수",{"$f":"IF(AND(O44>0%,O44<100%),\"진행 중\",IF(O44=0%,\"작업 대기\",\"작업 완료\"))","v":"작업 완료"},"2021-10-20","2021-11-19",{"$f":"IF(OR(ISBLANK($L44), ISBLANK($M44)),\"\",NETWORKDAYS($L44,$M44))","v":23},{"v":1,"d":"100%"}]
[34,null,null,"테이블 정의"]
[35,{"$nulls":3},"AI매칭 테이블 설계",null,"○","작업","테이블 정의서","여인영",{"$f":"IF(AND(O46>0%,O46<100%),\"진행 중\",IF(O46=0%,\"작업 대기\",\"작업 완료\"))","v":"작업 완료"},"2021-11-01","2021-11-05",{"$f":"IF(OR(ISBLANK($L46), ISBLANK($M46)),\"\",NETWORKDAYS($L46,$M46))","v":5},{"v":1,"d":"100%"}]
[36,{"$nulls":3},"추천 교과목 테이블 설계",null,"○","작업","테이블 정의서","이호영",{"$f":"IF(AND(O47>0%,O47<100%),\"진행 중\",IF(O47=0%,\"작업 대기\",\"작업 완료\"))","v":"작업 대기"},"2021-11-01","2021-11-05",{"$f":"IF(OR(ISBLANK($L47), ISBLANK($M47)),\"\",NETWORKDAYS($L47,$M47))","v":5},{"v":0,"d":"0%"}]
[37,null,null,"AI매칭"]
[38,{"$nulls":3},"형태소분석 모듈"]
[39,{"$nulls":4},"형태소분석 모듈 설계(커스터마이징 고려)","○","작업","시퀀스 설계서","여인영",{"$f":"IF(AND(O50>0%,O50<100%),\"진행 중\",IF(O50=0%,\"작업 대기\",\"작업 완료\"))","v":"작업 완료"},"2021-11-08","2021-11-12",{"$f":"IF(OR(ISBLANK($L50), ISBLANK($M50)),\"\",NETWORKDAYS($L50,$M50))","v":5},{"v":1,"d":"100%"}]
[40,{"$nulls":3},"학습 모델 모듈"]
[41,{"$nulls":4},"학습 모델 설계","○","작업","시퀀스 설계서","여인영",{"$f":"IF(AND(O52>0%,O52<100%),\"진행 중\",IF(O52=0%,\"작업 대기\",\"작업 완료\"))","v":"작업 대기"},"2022-01-03","2022-01-06",{"$f":"IF(OR(ISBLANK($L52), ISBLANK($M52)),\"\",NETWORKDAYS($L52,$M52))","v":4},{"v":0,"d":"0%"}]
[42]
[43,"4000. 구축",{"$nulls":12},{"$f":"AVERAGE(O56,O59,O60,O61)","v":{"v":0.1,"d":"10%"}}]
[44,null,"REQ-NF-001","개발환경 구축"]
[45,{"$nulls":3},"전자정부 표준 프레임워크 환경 적용 v4.0",null,"○","작업","소스코드","이호영,김지수",{"$f":"IF(AND(O56>0%,O56<100%),\"진행 중\",IF(O56=0%,\"개발 대기\",\"개발 완료\"))","v":"진행 중"},"2021-10-15","2022-01-06",{"$f":"IF(OR(ISBLANK($L56), ISBLANK($M56)),\"\",NETWORKDAYS($L56,$M56))","v":60},{"v":0.4,"d":"40%"}]
[46,null,"REQ-F-001","자료수집"]
[47,{"$nulls":3},"교과목 상세 정보"]
[48,{"$nulls":4},"기존 이관한 데이터에 학과 추가 이관","○","개발","소스코드","이호영",{"$f":"IF(AND(O59>0%,O59<100%),\"진행 중\",IF(O59=0%,\"개발 대기\",\"개발 완료\"))","v":"개발 대기"},"2022-01-31","2022-02-04",{"$f":"IF(OR(ISBLANK($L59), ISBLANK($M59)),\"\",NETWORKDAYS($L59,$M59))","v":5},{"v":0,"d":"0%"}]
[49,{"$nulls":4},"학사DB에서 대상 학과에 학생 정보 정보 이관","○","개발","소스코드","이호영",{"$f":"IF(AND(O60>0%,O60<100%),\"진행 중\",IF(O60=0%,\"개발 대기\",\"개발 완료\"))","v":"개발 대기"},"2022-01-31","2022-02-04",{"$f":"IF(OR(ISBLANK($L60), ISBLANK($M60)),\"\",NETWORKDAYS($L60,$M60))","v":5},{"v":0,"d":"0%"}]
[50,{"$nulls":4},"학사DB에서 학생들 기준으로 수강과목 정보 이관","○","개발","소스코드","이호영",{"$f":"IF(AND(O61>0%,O61<100%),\"진행 중\",IF(O61=0%,\"개발 대기\",\"개발 완료\"))","v":"개발 대기"},"2022-01-31","2022-02-04",{"$f":"IF(OR(ISBLANK($L61), ISBLANK($M61)),\"\",NETWORKDAYS($L61,$M61))","v":5},{"v":0,"d":"0%"}]
[51]
[52,"4001. 기능 개선",{"$nulls":11},{"$f":"SUM(N64:N76)","v":37},{"$f":"AVERAGE(O65,O66,O67,O69,O71,O73,O75)","v":{"v":0,"d":"0%"}}]
[53,null,"REQ-F-002","교과목 탐색 게시판 기능 개선"]
[54,{"$nulls":3},"이수 교과목 : 회색",null,"○","개발","소스코드","이호영",{"$f":"IF(AND(O64>0%,O64<100%),\"진행 중\",IF(O64=0%,\"개발 대기\",\"개발 완료\"))","v":"개발 대기"},"2021-11-15","2021-11-19",{"$f":"IF(OR(ISBLANK($L65), ISBLANK($M65)),\"\",NETWORKDAYS($L65,$M65))","v":5},{"v":0,"d":"0%"}]
[55,{"$nulls":3},"이수 희망 교과목 선택 기능 추가 : (선택 시) 노랑",null,"○","개발","소스코드","이호영",{"$f":"IF(AND(O65>0%,O65<100%),\"진행 중\",IF(O65=0%,\"개발 대기\",\"개발 완료\"))","v":"개발 대기"},"2021-11-15","2021-11-19",5,{"v":0,"d":"0%"}]
[56,{"$nulls":3},"마우스 커러를 아이콘으로 올리면 설명 노출",null,"○","개발","소스코드","이호영",{"$f":"IF(AND(O66>0%,O66<100%),\"진행 중\",IF(O66=0%,\"개발 대기\",\"개발 완료\"))","v":"개발 대기"},"2021-11-15","2021-11-19",5,{"v":0,"d":"0%"}]
[57,null,"REQ-F-009","타 학과 정보 확인"]
[58,{"$nulls":3},"타 학과 정보 확인",null,"○","개발","소스코드","이호영",{"$f":"IF(AND(O69>0%,O69<100%),\"진행 중\",IF(O69=0%,\"작업 대기\",\"작업 완료\"))","v":"작업 대기"},"2021-12-02","2021-12-10",7,{"v":0,"d":"0%"}]
[59,null,"REQ-F-012","교과정보 목록"]
[60,{"$nulls":3},"본문 내용이 2줄까지 보이고 '+' 누르면 펼쳐보기 구현",null,"○","개발","소스코드","이호영",{"$f":"IF(AND(O71>0%,O71<100%),\"진행 중\",IF(O71=0%,\"작업 대기\",\"작업 완료\"))","v":"작업 대기"},"2021-11-15","2021-11-19",5,{"v":0,"d":"0%"}]
[61,null,"REQ-F-013","멀티팝업 제거"]
[62,{"$nulls":3},"하나의 팝업창에서 정보 제공",null,"○","개발","소스코드","이호영",{"$f":"IF(AND(O73>0%,O73<100%),\"진행 중\",IF(O73=0%,\"작업 대기\",\"작업 완료\"))","v":"작업 대기"},"2021-11-15","2021-11-19",5,{"v":0,"d":"0%"}]
[63,null,"REQ-F-014","팝업 본문"]
[64,{"$nulls":3},"본문 내용이 2줄까지 보이고 '+' 누르면 펼쳐보기 구현",null,"○","개발","소스코드","이호영",{"$f":"IF(AND(O75>0%,O75<100%),\"진행 중\",IF(O75=0%,\"작업 대기\",\"작업 완료\"))","v":"작업 대기"},"2021-11-15","2021-11-19",5,{"v":0,"d":"0%"}]
[65]
[66,"4002. 기능 추가",{"$nulls":11},{"$f":"SUM(N78:N90)","v":95},{"$f":"AVERAGE(O79:O89)","v":{"v":0.375,"d":"38%"}}]
[67,null,"REQ-F-007","대시보드"]
[68,{"$nulls":3},"대시보드 퍼블리싱",null,"○","개발","소스코드","외부 업체",{"$f":"IF(AND(O79>0%,O79<100%),\"진행 중\",IF(O79=0%,\"개발 대기\",\"개발 완료\"))","v":"개발 완료"},"2021-10-25","2021-11-19",{"$f":"IF(OR(ISBLANK($L79), ISBLANK($M79)),\"\",NETWORKDAYS($L79,$M79))","v":20},{"v":1,"d":"100%"}]
[69,{"$nulls":3},"대시보드 기능",null,"○","개발","소스코드","김지수",{"$f":"IF(AND(O80>0%,O80<100%),\"진행 중\",IF(O80=0%,\"개발 대기\",\"개발 완료\"))","v":"개발 대기"},"2022-01-10","2022-01-14",5,{"v":0,"d":"0%"}]
[70,null,"REQ-F-008","마이페이지"]
[71,{"$nulls":3},"마이 페이지 퍼블리싱",null,"○","개발","소스코드","김지수",{"$f":"IF(AND(O82>0%,O82<100%),\"진행 중\",IF(O82=0%,\"개발 대기\",\"개발 완료\"))","v":"개발 완료"},"2021-10-25","2021-11-19",20,{"v":1,"d":"100%"}]
[72,{"$nulls":3},"마이 페이지 기능",null,"○","개발","소스코드","김지수",{"$f":"IF(AND(O83>0%,O83<100%),\"진행 중\",IF(O83=0%,\"개발 대기\",\"개발 완료\"))","v":"개발 대기"},"2022-01-10","2022-01-21",10,{"v":0,"d":"0%"}]
[73,{"$nulls":3},"역량진단 리포트 퍼블리싱",null,"○","개발","소스코드","김지수","개발 완료","2021-10-25","2021-11-19",20,{"v":1,"d":"100%"}]
[74,{"$nulls":3},"역량진단 리포트 기능",null,"○","개발","소스코드","김지수",{"$f":"IF(AND(O85>0%,O85<100%),\"진행 중\",IF(O85=0%,\"개발 대기\",\"개발 완료\"))","v":"개발 대기"},"2022-01-17","2022-01-28",10,{"v":0,"d":"0%"}]
[75,null,"REQ-F-010","역량진단 통계 기능 "]
[76,{"$nulls":3},"역량진단 통계 게시판 추가 (학생 / 교수) 공통",null,"○","개발","소스코드","김지수",{"$f":"IF(AND(O87>0%,O87<100%),\"진행 중\",IF(O87=0%,\"개발 대기\",\"개발 완료\"))","v":"개발 대기"},"2022-01-31","2022-02-04",5,{"v":0,"d":"0%"}]
[77,null,"REQ-F-011","관심직업 통계 기능 "]
[78,{"$nulls":3},"관심직업 통계 게시판 추가 (학생 / 교수) 공통",null,"○","개발","소스코드","김지수",{"$f":"IF(AND(O89>0%,O89<100%),\"진행 중\",IF(O89=0%,\"개발 대기\",\"개발 완료\"))","v":"개발 대기"},"2022-01-31","2022-02-04",5,{"v":0,"d":"0%"}]
[79]
[80,"4003. AI매칭 자동화",{"$nulls":11},{"$f":"SUM(N92:N125)","v":135},{"$f":"AVERAGE(O94,O93,O95,O98,O100,O102,O104,O106,O108,O110,O112,O114)","v":{"v":0,"d":"0%"}}]
[81,null,"REQ-F-003","웹 UI"]
[82,{"$nulls":3},"퍼블리싱",null,"○","개발","소스코드","김지수",{"$f":"IF(AND(O93>0%,O93<100%),\"진행 중\",IF(O93=0%,\"개발 대기\",\"개발 완료\"))","v":"개발 대기"},"2021-12-27","2021-12-27",{"$f":"IF(OR(ISBLANK($L93), ISBLANK($M93)),\"\",NETWORKDAYS($L93,$M93))","v":1},{"v":0,"d":"0%"}]
[83,{"$nulls":3},"기능",null,"○","개발","소스코드","여인영,이호영","개발 대기","2021-12-04","2022-01-07",25,{"v":0,"d":"0%"}]
[84,{"$nulls":3},"기능 고도화",null,"○","개발","소스코드","여인영,이호영","개발 대기","2022-01-10","2022-01-21",10,{"v":0,"d":"0%"}]
[85,null,null,"모듈"]
[86,{"$nulls":3},"형태소분석"]
[87,{"$nulls":4},"사내 API를 활용한 기능 구현","○","개발","소스코드","여인영",{"$f":"IF(AND(O98>0%,O98<100%),\"진행 중\",IF(O98=0%,\"개발 대기\",\"개발 완료\"))","v":"개발 대기"},"2022-01-10","2022-01-14",5,{"v":0,"d":"0%"}]
[88,{"$nulls":3},"전처리"]
[89,{"$nulls":4},"토큰화 등 학습시키기 위한 데이터 처리 기능 구현","○","개발","소스코드","여인영",{"$f":"IF(AND(O100>0%,O100<100%),\"진행 중\",IF(O100=0%,\"개발 대기\",\"개발 완료\"))","v":"개발 대기"},"2022-01-10","2022-01-14",5,{"v":0,"d":"0%"}]
[90,{"$nulls":3},"후처리"]
[91,{"$nulls":4},"모델 매칭 결과 데이터를 화면출력을 위해 정제하는 기능 구현","○","개발","소스코드","여인영",{"$f":"IF(AND(O102>0%,O102<100%),\"진행 중\",IF(O102=0%,\"개발 대기\",\"개발 완료\"))","v":"개발 대기"},"2022-01-17","2022-01-21",5,{"v":0,"d":"0%"}]
[92,{"$nulls":3},"학습모델"]
[93,{"$nulls":4},"모듈 구현 및 테스트","○","개발","소스코드","여인영",{"$f":"IF(AND(O104>0%,O104<100%),\"진행 중\",IF(O104=0%,\"개발 대기\",\"개발 완료\"))","v":"개발 대기"},"2022-01-17","2022-01-21",5,{"v":0,"d":"0%"}]
[94,null,null,"고도화"]
[95,{"$nulls":3},"형태소 분석 모듈 사전",null,"○","개발","소스코드","여인영",{"$f":"IF(AND(O106>0%,O106<100%),\"진행 중\",IF(O106=0%,\"개발 대기\",\"개발 완료\"))","v":"개발 대기"},"2022-01-24","2022-01-28",5,{"v":0,"d":"0%"}]
[96,{"$nulls":3},"DB 및 데이터"]
[97,{"$nulls":4},"테스트 및 검증","○","개발","소스코드","여인영",{"$f":"IF(AND(O108>0%,O108<100%),\"진행 중\",IF(O108=0%,\"개발 대기\",\"개발 완료\"))","v":"개발 대기"},"2022-01-24","2022-01-28",5,{"v":0,"d":"0%"}]
[98,{"$nulls":3},"모델"]
[99,{"$nulls":4},"매칭 테스트 결과에 따른 모델 고도화","○","개발","소스코드","여인영",{"$f":"IF(AND(O110>0%,O110<100%),\"진행 중\",IF(O110=0%,\"개발 대기\",\"개발 완료\"))","v":"개발 대기"},"2022-01-31","2022-02-04",5,{"v":0,"d":"0%"}]
[100,null,"REQ-F-004","클렌징 작업"]
[101,{"$nulls":3},"딥러닝 결과 클렌징 작업 가능한 기능 구현",null,"○","개발","소스코드","이호영,여인영",{"$f":"IF(AND(O112>0%,O112<100%),\"진행 중\",IF(O112=0%,\"개발 대기\",\"개발 완료\"))","v":"개발 대기"},"2022-01-31","2022-02-04",5,{"v":0,"d":"0%"}]
[102,null,"REQ-F-005","교과목 정보 수집"]
[103,{"$nulls":3},"교과목 정보 상세 정보 수집 기능 구현",null,"○","개발","소스코드","이호영",{"$f":"IF(AND(O114>0%,O114<100%),\"진행 중\",IF(O114=0%,\"개발 대기\",\"개발 완료\"))","v":"개발 대기"},"2022-02-07","2022-02-11",5,{"v":0,"d":"0%"}]
[104]
[105,"4004. 공통",{"$nulls":11},{"$f":"SUM(N118,N119,N120,N122,N123,N124)","v":27},{"$f":"AVERAGE(O118,O119,O120,O122,O123,O124)","v":{"v":0,"d":"0%"}}]
[106,null,null,"매뉴얼 작성"]
[107,{"$nulls":3},"운영자매뉴얼 작성",null,"○","작업","운영자매뉴얼","김지수",{"$f":"IF(AND(O118>0%,O118<100%),\"진행 중\",IF(O118=0%,\"작업 대기\",\"작업 완료\"))","v":"작업 대기"},"2022-01-17","2022-01-21",{"$f":"IF(OR(ISBLANK($L118), ISBLANK($M118)),\"\",NETWORKDAYS($L118,$M118))","v":5},{"v":0,"d":"0%"}]
[108,{"$nulls":3},"사용자매뉴얼 작성",null,"○","작업","사용자매뉴얼","김지수",{"$f":"IF(AND(O119>0%,O119<100%),\"진행 중\",IF(O119=0%,\"작업 대기\",\"작업 완료\"))","v":"작업 대기"},"2022-01-17","2022-01-21",{"$f":"IF(OR(ISBLANK($L119), ISBLANK($M119)),\"\",NETWORKDAYS($L119,$M119))","v":5},{"v":0,"d":"0%"}]
[109,{"$nulls":3},"AI매칭 자동화 시나리오 작성",null,"○","작업","AI매칭 자동화 매뉴얼","여인영",{"$f":"IF(AND(O120>0%,O120<100%),\"진행 중\",IF(O120=0%,\"작업 대기\",\"작업 완료\"))","v":"작업 대기"},"2022-01-17","2022-01-21",{"$f":"IF(OR(ISBLANK($L120), ISBLANK($M120)),\"\",NETWORKDAYS($L120,$M120))","v":5},{"v":0,"d":"0%"}]
[110,null,"REQ-NF-002","보안취약점 점검"]
[111,{"$nulls":3},"보안취약점 점검",null,"○","작업",null,"이호영",{"$f":"IF(AND(O122>0%,O122<100%),\"진행 중\",IF(O122=0%,\"개발 대기\",\"개발 완료\"))","v":"개발 대기"},"2022-01-24","2022-01-27",{"$f":"IF(OR(ISBLANK($L122), ISBLANK($M122)),\"\",NETWORKDAYS($L122,$M122))","v":4},{"v":0,"d":"0%"}]
[112,{"$nulls":3},"보안취약점 제거 이행",null,"○","작업",null,"이호영",{"$f":"IF(AND(O123>0%,O123<100%),\"진행 중\",IF(O123=0%,\"개발 대기\",\"개발 완료\"))","v":"개발 대기"},"2022-01-24","2022-01-27",{"$f":"IF(OR(ISBLANK($L123), ISBLANK($M123)),\"\",NETWORKDAYS($L123,$M123))","v":4},{"v":0,"d":"0%"}]
[113,{"$nulls":3},"보안취약점 조치 결과 작성",null,"○","작업","보안취약점 조치결과서","이호영, 여인영",{"$f":"IF(AND(O124>0%,O124<100%),\"진행 중\",IF(O124=0%,\"개발 대기\",\"개발 완료\"))","v":"개발 대기"},"2022-01-24","2022-01-27",{"$f":"IF(OR(ISBLANK($L124), ISBLANK($M124)),\"\",NETWORKDAYS($L124,$M124))","v":4},{"v":0,"d":"0%"}]
[114]
[115,"5000. 교육",{"$nulls":11},{"$f":"SUM(N127:N129)","v":1},{"$f":"AVERAGE(O127)","v":{"v":0,"d":"0%"}}]
[116,null,null,"사용자교육",null,null,"○","작업",null,"이호영",{"$f":"IF(AND(O127>0%,O127<100%),\"진행 중\",IF(O127=0%,\"개발 대기\",\"개발 완료\"))","v":"개발 대기"},"2022-01-27","2022-01-27",{"$f":"IF(OR(ISBLANK($L127), ISBLANK($M127)),\"\",NETWORKDAYS($L127,$M127))","v":1},{"v":0,"d":"0%"}]
[117]
[118]

{"sheet":"Sheet1","index":3,"n_rows":6,"n_cols":2,"rows_kept":6}
[]
["시작일"]
["2021-10-15"]
[]
["오늘","종료일"]
[{"$f":"TODAY()","v":"2024-11-04"},"2022-02-28"]